BEGIN:VCALENDAR
VERSION:2.0
PRODID:-//Holy Family Senior School - ECPv6.15.20//NONSGML v1.0//EN
CALSCALE:GREGORIAN
METHOD:PUBLISH
X-WR-CALNAME:Holy Family Senior School
X-ORIGINAL-URL:https://holyfamilysenior.com
X-WR-CALDESC:Events for Holy Family Senior School
REFRESH-INTERVAL;VALUE=DURATION:PT1H
X-Robots-Tag:noindex
X-PUBLISHED-TTL:PT1H
BEGIN:VTIMEZONE
TZID:Europe/Dublin
BEGIN:DAYLIGHT
TZOFFSETFROM:+0000
TZOFFSETTO:+0100
TZNAME:IST
DTSTART:20230326T010000
END:DAYLIGHT
BEGIN:STANDARD
TZOFFSETFROM:+0100
TZOFFSETTO:+0000
TZNAME:GMT
DTSTART:20231029T010000
END:STANDARD
BEGIN:DAYLIGHT
TZOFFSETFROM:+0000
TZOFFSETTO:+0100
TZNAME:IST
DTSTART:20240331T010000
END:DAYLIGHT
BEGIN:STANDARD
TZOFFSETFROM:+0100
TZOFFSETTO:+0000
TZNAME:GMT
DTSTART:20241027T010000
END:STANDARD
BEGIN:DAYLIGHT
TZOFFSETFROM:+0000
TZOFFSETTO:+0100
TZNAME:IST
DTSTART:20250330T010000
END:DAYLIGHT
BEGIN:STANDARD
TZOFFSETFROM:+0100
TZOFFSETTO:+0000
TZNAME:GMT
DTSTART:20251026T010000
END:STANDARD
END:VTIMEZONE
BEGIN:VEVENT
DTSTART;TZID=Europe/Dublin:20240603T000000
DTEND;TZID=Europe/Dublin:20240603T235959
DTSTAMP:20260426T023654
CREATED:20240116T080723Z
LAST-MODIFIED:20240116T080728Z
UID:2374-1717372800-1717459199@holyfamilysenior.com
SUMMARY:School Closed - Bank Holiday
DESCRIPTION:
URL:https://holyfamilysenior.com/event/school-closed-bank-holiday-3/
END:VEVENT
BEGIN:VEVENT
DTSTART;TZID=Europe/Dublin:20240607T000000
DTEND;TZID=Europe/Dublin:20240607T235959
DTSTAMP:20260426T023654
CREATED:20240116T080816Z
LAST-MODIFIED:20240116T080821Z
UID:2376-1717718400-1717804799@holyfamilysenior.com
SUMMARY:School Closed - School will be used as a Polling Station
DESCRIPTION:
URL:https://holyfamilysenior.com/event/school-closed-school-will-be-used-as-a-polling-station/
END:VEVENT
BEGIN:VEVENT
DTSTART;TZID=Europe/Dublin:20240628T000000
DTEND;TZID=Europe/Dublin:20240628T235959
DTSTAMP:20260426T023654
CREATED:20240116T081014Z
LAST-MODIFIED:20240116T081019Z
UID:2378-1719532800-1719619199@holyfamilysenior.com
SUMMARY:Final Day of 23/24 School Term
DESCRIPTION:
URL:https://holyfamilysenior.com/event/final-day-of-23-24-school-term/
END:VEVENT
END:VCALENDAR