BEGIN:VCALENDAR
VERSION:2.0
PRODID:-//Holy Family Senior School - ECPv6.15.20//NONSGML v1.0//EN
CALSCALE:GREGORIAN
METHOD:PUBLISH
X-WR-CALNAME:Holy Family Senior School
X-ORIGINAL-URL:https://holyfamilysenior.com
X-WR-CALDESC:Events for Holy Family Senior School
REFRESH-INTERVAL;VALUE=DURATION:PT1H
X-Robots-Tag:noindex
X-PUBLISHED-TTL:PT1H
BEGIN:VTIMEZONE
TZID:Europe/Dublin
BEGIN:DAYLIGHT
TZOFFSETFROM:+0000
TZOFFSETTO:+0100
TZNAME:IST
DTSTART:20180325T010000
END:DAYLIGHT
BEGIN:STANDARD
TZOFFSETFROM:+0100
TZOFFSETTO:+0000
TZNAME:GMT
DTSTART:20181028T010000
END:STANDARD
BEGIN:DAYLIGHT
TZOFFSETFROM:+0000
TZOFFSETTO:+0100
TZNAME:IST
DTSTART:20190331T010000
END:DAYLIGHT
BEGIN:STANDARD
TZOFFSETFROM:+0100
TZOFFSETTO:+0000
TZNAME:GMT
DTSTART:20191027T010000
END:STANDARD
BEGIN:DAYLIGHT
TZOFFSETFROM:+0000
TZOFFSETTO:+0100
TZNAME:IST
DTSTART:20200329T010000
END:DAYLIGHT
BEGIN:STANDARD
TZOFFSETFROM:+0100
TZOFFSETTO:+0000
TZNAME:GMT
DTSTART:20201025T010000
END:STANDARD
BEGIN:DAYLIGHT
TZOFFSETFROM:+0000
TZOFFSETTO:+0100
TZNAME:IST
DTSTART:20210328T010000
END:DAYLIGHT
BEGIN:STANDARD
TZOFFSETFROM:+0100
TZOFFSETTO:+0000
TZNAME:GMT
DTSTART:20211031T010000
END:STANDARD
END:VTIMEZONE
BEGIN:VEVENT
DTSTART;TZID=Europe/Dublin:20200504T000000
DTEND;TZID=Europe/Dublin:20200504T235959
DTSTAMP:20260425T150257
CREATED:20190926T073048Z
LAST-MODIFIED:20190926T073053Z
UID:1083-1588550400-1588636799@holyfamilysenior.com
SUMMARY:May Bank Holiday
DESCRIPTION:School closed for Bank Holiday Monday.
URL:https://holyfamilysenior.com/event/may-bank-holiday-2/
END:VEVENT
BEGIN:VEVENT
DTSTART;TZID=Europe/Dublin:20200406T000000
DTEND;TZID=Europe/Dublin:20200417T235959
DTSTAMP:20260425T150257
CREATED:20190926T072911Z
LAST-MODIFIED:20190926T072919Z
UID:1081-1586131200-1587167999@holyfamilysenior.com
SUMMARY:Easter Break
DESCRIPTION:School will close from April 6th to 17th for Easter break. School will reopen on Monday the 20th of April.
URL:https://holyfamilysenior.com/event/easter-break-3/
END:VEVENT
BEGIN:VEVENT
DTSTART;TZID=Europe/Dublin:20200316T000000
DTEND;TZID=Europe/Dublin:20200317T235959
DTSTAMP:20260425T150257
CREATED:20190926T072628Z
LAST-MODIFIED:20190926T072632Z
UID:1079-1584316800-1584489599@holyfamilysenior.com
SUMMARY:St. Patrick's Day
DESCRIPTION:School will close for Monday the 16th and Tuesday the 17th for St. Patrick’s Day.
URL:https://holyfamilysenior.com/event/st-patricks-day-2/
END:VEVENT
BEGIN:VEVENT
DTSTART;TZID=Europe/Dublin:20200306T193000
DTEND;TZID=Europe/Dublin:20200306T203000
DTSTAMP:20260425T150257
CREATED:20200226T100523Z
LAST-MODIFIED:20200226T100529Z
UID:1229-1583523000-1583526600@holyfamilysenior.com
SUMMARY:School CD Launch Night
DESCRIPTION:
URL:https://holyfamilysenior.com/event/school-cd-launch-night/
END:VEVENT
BEGIN:VEVENT
DTSTART;TZID=Europe/Dublin:20200217T000000
DTEND;TZID=Europe/Dublin:20200221T235959
DTSTAMP:20260425T150257
CREATED:20190926T072230Z
LAST-MODIFIED:20190926T072452Z
UID:1075-1581897600-1582329599@holyfamilysenior.com
SUMMARY:February Mid Term
DESCRIPTION:School will close from Monday the 17th to Friday the 21st for the mid term break.
URL:https://holyfamilysenior.com/event/february-mid-term-2/
END:VEVENT
BEGIN:VEVENT
DTSTART;TZID=Europe/Dublin:20200123T000000
DTEND;TZID=Europe/Dublin:20200123T235959
DTSTAMP:20260425T150257
CREATED:20190926T073551Z
LAST-MODIFIED:20190926T073557Z
UID:1089-1579737600-1579823999@holyfamilysenior.com
SUMMARY:Teacher In-Service (No School for Students)
DESCRIPTION:Teacher In-Service training day. No school for students on this day.
URL:https://holyfamilysenior.com/event/teacher-in-service-no-school-for-students/
END:VEVENT
BEGIN:VEVENT
DTSTART;TZID=Europe/Dublin:20191223T000000
DTEND;TZID=Europe/Dublin:20200103T235959
DTSTAMP:20260425T150257
CREATED:20190926T072010Z
LAST-MODIFIED:20190926T072018Z
UID:1073-1577059200-1578095999@holyfamilysenior.com
SUMMARY:Christmas Break
DESCRIPTION:School will close for Christmas Break from December 23rd to January 3rd. School Reopens Monday January 6th.
URL:https://holyfamilysenior.com/event/christmas-break-2/
END:VEVENT
END:VCALENDAR