BEGIN:VCALENDAR
VERSION:2.0
PRODID:-//Holy Family Senior School - ECPv6.15.20//NONSGML v1.0//EN
CALSCALE:GREGORIAN
METHOD:PUBLISH
X-WR-CALNAME:Holy Family Senior School
X-ORIGINAL-URL:https://holyfamilysenior.com
X-WR-CALDESC:Events for Holy Family Senior School
REFRESH-INTERVAL;VALUE=DURATION:PT1H
X-Robots-Tag:noindex
X-PUBLISHED-TTL:PT1H
BEGIN:VTIMEZONE
TZID:Europe/Dublin
BEGIN:DAYLIGHT
TZOFFSETFROM:+0000
TZOFFSETTO:+0100
TZNAME:IST
DTSTART:20200329T010000
END:DAYLIGHT
BEGIN:STANDARD
TZOFFSETFROM:+0100
TZOFFSETTO:+0000
TZNAME:GMT
DTSTART:20201025T010000
END:STANDARD
BEGIN:DAYLIGHT
TZOFFSETFROM:+0000
TZOFFSETTO:+0100
TZNAME:IST
DTSTART:20210328T010000
END:DAYLIGHT
BEGIN:STANDARD
TZOFFSETFROM:+0100
TZOFFSETTO:+0000
TZNAME:GMT
DTSTART:20211031T010000
END:STANDARD
BEGIN:DAYLIGHT
TZOFFSETFROM:+0000
TZOFFSETTO:+0100
TZNAME:IST
DTSTART:20220327T010000
END:DAYLIGHT
BEGIN:STANDARD
TZOFFSETFROM:+0100
TZOFFSETTO:+0000
TZNAME:GMT
DTSTART:20221030T010000
END:STANDARD
BEGIN:DAYLIGHT
TZOFFSETFROM:+0000
TZOFFSETTO:+0100
TZNAME:IST
DTSTART:20230326T010000
END:DAYLIGHT
BEGIN:STANDARD
TZOFFSETFROM:+0100
TZOFFSETTO:+0000
TZNAME:GMT
DTSTART:20231029T010000
END:STANDARD
BEGIN:DAYLIGHT
TZOFFSETFROM:+0000
TZOFFSETTO:+0100
TZNAME:IST
DTSTART:20240331T010000
END:DAYLIGHT
BEGIN:STANDARD
TZOFFSETFROM:+0100
TZOFFSETTO:+0000
TZNAME:GMT
DTSTART:20241027T010000
END:STANDARD
BEGIN:DAYLIGHT
TZOFFSETFROM:+0000
TZOFFSETTO:+0100
TZNAME:IST
DTSTART:20250330T010000
END:DAYLIGHT
BEGIN:STANDARD
TZOFFSETFROM:+0100
TZOFFSETTO:+0000
TZNAME:GMT
DTSTART:20251026T010000
END:STANDARD
END:VTIMEZONE
BEGIN:VEVENT
DTSTART;TZID=Europe/Dublin:20240628T000000
DTEND;TZID=Europe/Dublin:20240628T235959
DTSTAMP:20260425T150240
CREATED:20240116T081014Z
LAST-MODIFIED:20240116T081019Z
UID:2378-1719532800-1719619199@holyfamilysenior.com
SUMMARY:Final Day of 23/24 School Term
DESCRIPTION:
URL:https://holyfamilysenior.com/event/final-day-of-23-24-school-term/
END:VEVENT
BEGIN:VEVENT
DTSTART;TZID=Europe/Dublin:20240607T000000
DTEND;TZID=Europe/Dublin:20240607T235959
DTSTAMP:20260425T150240
CREATED:20240116T080816Z
LAST-MODIFIED:20240116T080821Z
UID:2376-1717718400-1717804799@holyfamilysenior.com
SUMMARY:School Closed - School will be used as a Polling Station
DESCRIPTION:
URL:https://holyfamilysenior.com/event/school-closed-school-will-be-used-as-a-polling-station/
END:VEVENT
BEGIN:VEVENT
DTSTART;TZID=Europe/Dublin:20240603T000000
DTEND;TZID=Europe/Dublin:20240603T235959
DTSTAMP:20260425T150240
CREATED:20240116T080723Z
LAST-MODIFIED:20240116T080728Z
UID:2374-1717372800-1717459199@holyfamilysenior.com
SUMMARY:School Closed - Bank Holiday
DESCRIPTION:
URL:https://holyfamilysenior.com/event/school-closed-bank-holiday-3/
END:VEVENT
BEGIN:VEVENT
DTSTART;TZID=Europe/Dublin:20240506T000000
DTEND;TZID=Europe/Dublin:20240510T235959
DTSTAMP:20260425T150240
CREATED:20240116T080635Z
LAST-MODIFIED:20240116T080640Z
UID:2372-1714953600-1715385599@holyfamilysenior.com
SUMMARY:School Closed - Mid-term Break
DESCRIPTION:
URL:https://holyfamilysenior.com/event/school-closed-mid-term-break/
END:VEVENT
BEGIN:VEVENT
DTSTART;TZID=Europe/Dublin:20240325T000000
DTEND;TZID=Europe/Dublin:20240405T235959
DTSTAMP:20260425T150240
CREATED:20240116T080542Z
LAST-MODIFIED:20240116T080547Z
UID:2370-1711324800-1712361599@holyfamilysenior.com
SUMMARY:School Closed - Easter Break
DESCRIPTION:
URL:https://holyfamilysenior.com/event/school-closed-easter-break/
END:VEVENT
BEGIN:VEVENT
DTSTART;TZID=Europe/Dublin:20240318T000000
DTEND;TZID=Europe/Dublin:20240318T235959
DTSTAMP:20260425T150240
CREATED:20240116T080441Z
LAST-MODIFIED:20240116T080445Z
UID:2368-1710720000-1710806399@holyfamilysenior.com
SUMMARY:School Closed - Bank Holiday
DESCRIPTION:
URL:https://holyfamilysenior.com/event/school-closed-bank-holiday-2/
END:VEVENT
BEGIN:VEVENT
DTSTART;TZID=Europe/Dublin:20240308T000000
DTEND;TZID=Europe/Dublin:20240308T235959
DTSTAMP:20260425T150240
CREATED:20240116T080353Z
LAST-MODIFIED:20240116T080358Z
UID:2366-1709856000-1709942399@holyfamilysenior.com
SUMMARY:School Closed - School is being used as a Polling Station
DESCRIPTION:
URL:https://holyfamilysenior.com/event/school-closed-school-is-being-used-as-a-polling-station/
END:VEVENT
BEGIN:VEVENT
DTSTART;TZID=Europe/Dublin:20240215T000000
DTEND;TZID=Europe/Dublin:20240216T235959
DTSTAMP:20260425T150240
CREATED:20240116T080056Z
LAST-MODIFIED:20240116T080202Z
UID:2363-1707955200-1708127999@holyfamilysenior.com
SUMMARY:School Closed - Mid-term Break
DESCRIPTION:
URL:https://holyfamilysenior.com/event/school-closed-midterm-break/
END:VEVENT
BEGIN:VEVENT
DTSTART;TZID=Europe/Dublin:20240205T000000
DTEND;TZID=Europe/Dublin:20240205T235959
DTSTAMP:20260425T150240
CREATED:20240116T075937Z
LAST-MODIFIED:20240116T075942Z
UID:2361-1707091200-1707177599@holyfamilysenior.com
SUMMARY:School Closed - Bank Holiday
DESCRIPTION:
URL:https://holyfamilysenior.com/event/school-closed-bank-holiday/
END:VEVENT
BEGIN:VEVENT
DTSTART;TZID=Europe/Dublin:20230630T000000
DTEND;TZID=Europe/Dublin:20230630T235959
DTSTAMP:20260425T150240
CREATED:20220425T124232Z
LAST-MODIFIED:20220425T124234Z
UID:1934-1688083200-1688169599@holyfamilysenior.com
SUMMARY:Last Day of the 22/23 School Year
DESCRIPTION:
URL:https://holyfamilysenior.com/event/last-day-of-the-22-23-school-year/
END:VEVENT
BEGIN:VEVENT
DTSTART;TZID=Europe/Dublin:20230602T000000
DTEND;TZID=Europe/Dublin:20230605T235959
DTSTAMP:20260425T150240
CREATED:20220425T124134Z
LAST-MODIFIED:20220425T124138Z
UID:1932-1685664000-1686009599@holyfamilysenior.com
SUMMARY:June Bank Holiday Weekend
DESCRIPTION:
URL:https://holyfamilysenior.com/event/june-bank-holiday-weekend/
END:VEVENT
BEGIN:VEVENT
DTSTART;TZID=Europe/Dublin:20230512T193000
DTEND;TZID=Europe/Dublin:20230512T210000
DTSTAMP:20260425T150240
CREATED:20230505T082305Z
LAST-MODIFIED:20230505T082320Z
UID:2114-1683919800-1683925200@holyfamilysenior.com
SUMMARY:National Children's Choir Concert
DESCRIPTION:The Choir will perform in the Nano Nagle Hall. The cost of the event is €10. Tickets can be purchased from the school.
URL:https://holyfamilysenior.com/event/national-childrens-choir-concert-2/
END:VEVENT
BEGIN:VEVENT
DTSTART;TZID=Europe/Dublin:20230511T193000
DTEND;TZID=Europe/Dublin:20230511T210000
DTSTAMP:20260425T150240
CREATED:20230505T082616Z
LAST-MODIFIED:20230505T082622Z
UID:2117-1683833400-1683838800@holyfamilysenior.com
SUMMARY:National Children's Choir Concert
DESCRIPTION:The Choir will be performing for two nights in the Nano Nagle Hall. The cost of the event is €10. Tickets can be purchase from the school.
URL:https://holyfamilysenior.com/event/national-childrens-choir-concert/
END:VEVENT
BEGIN:VEVENT
DTSTART;TZID=Europe/Dublin:20230505T000000
DTEND;TZID=Europe/Dublin:20230505T235959
DTSTAMP:20260425T150240
CREATED:20230505T085037Z
LAST-MODIFIED:20230505T085043Z
UID:2119-1683244800-1683331199@holyfamilysenior.com
SUMMARY:School Closed for Teacher Training
DESCRIPTION:
URL:https://holyfamilysenior.com/event/school-closed-for-teacher-training/
END:VEVENT
BEGIN:VEVENT
DTSTART;TZID=Europe/Dublin:20230501T000000
DTEND;TZID=Europe/Dublin:20230502T235959
DTSTAMP:20260425T150240
CREATED:20220425T123953Z
LAST-MODIFIED:20220425T123957Z
UID:1930-1682899200-1683071999@holyfamilysenior.com
SUMMARY:May Bank Holiday
DESCRIPTION:
URL:https://holyfamilysenior.com/event/may-bank-holiday-4/
END:VEVENT
BEGIN:VEVENT
DTSTART;TZID=Europe/Dublin:20230403T000000
DTEND;TZID=Europe/Dublin:20230414T235959
DTSTAMP:20260425T150240
CREATED:20220425T123907Z
LAST-MODIFIED:20220425T123910Z
UID:1928-1680480000-1681516799@holyfamilysenior.com
SUMMARY:Easter Break
DESCRIPTION:
URL:https://holyfamilysenior.com/event/easter-break-2/
END:VEVENT
BEGIN:VEVENT
DTSTART;TZID=Europe/Dublin:20230317T000000
DTEND;TZID=Europe/Dublin:20230317T235959
DTSTAMP:20260425T150240
CREATED:20220425T123817Z
LAST-MODIFIED:20220425T123821Z
UID:1926-1679011200-1679097599@holyfamilysenior.com
SUMMARY:St. Patrick's Day
DESCRIPTION:
URL:https://holyfamilysenior.com/event/st-patricks-day-4/
END:VEVENT
BEGIN:VEVENT
DTSTART;TZID=Europe/Dublin:20230213T000000
DTEND;TZID=Europe/Dublin:20230217T235959
DTSTAMP:20260425T150240
CREATED:20220425T123739Z
LAST-MODIFIED:20220425T123741Z
UID:1924-1676246400-1676678399@holyfamilysenior.com
SUMMARY:February Mid-Term
DESCRIPTION:
URL:https://holyfamilysenior.com/event/february-mid-term/
END:VEVENT
BEGIN:VEVENT
DTSTART;TZID=Europe/Dublin:20230206T000000
DTEND;TZID=Europe/Dublin:20230206T235959
DTSTAMP:20260425T150240
CREATED:20220425T123646Z
LAST-MODIFIED:20220425T123650Z
UID:1922-1675641600-1675727999@holyfamilysenior.com
SUMMARY:School Closed
DESCRIPTION:
URL:https://holyfamilysenior.com/event/school-closed/
END:VEVENT
BEGIN:VEVENT
DTSTART;TZID=Europe/Dublin:20221222T000000
DTEND;TZID=Europe/Dublin:20230104T235959
DTSTAMP:20260425T150240
CREATED:20220425T123535Z
LAST-MODIFIED:20220425T123538Z
UID:1920-1671667200-1672876799@holyfamilysenior.com
SUMMARY:Christmas Break
DESCRIPTION:
URL:https://holyfamilysenior.com/event/christmas-break-4/
END:VEVENT
BEGIN:VEVENT
DTSTART;TZID=Europe/Dublin:20221031T000000
DTEND;TZID=Europe/Dublin:20221104T235959
DTSTAMP:20260425T150240
CREATED:20220425T123146Z
LAST-MODIFIED:20220425T123431Z
UID:1917-1667174400-1667606399@holyfamilysenior.com
SUMMARY:October Mid-Term Break
DESCRIPTION:
URL:https://holyfamilysenior.com/event/1917/
END:VEVENT
BEGIN:VEVENT
DTSTART;TZID=Europe/Dublin:20220831T000000
DTEND;TZID=Europe/Dublin:20220831T235959
DTSTAMP:20260425T150240
CREATED:20220425T122918Z
LAST-MODIFIED:20220425T122922Z
UID:1915-1661904000-1661990399@holyfamilysenior.com
SUMMARY:First Day of 22/23 School Year
DESCRIPTION:First day of the 22/23 school term.
URL:https://holyfamilysenior.com/event/first-day-of-22-23-school-year/
END:VEVENT
BEGIN:VEVENT
DTSTART;TZID=Europe/Dublin:20220630T000000
DTEND;TZID=Europe/Dublin:20220630T235959
DTSTAMP:20260425T150240
CREATED:20211119T085512Z
LAST-MODIFIED:20211119T085517Z
UID:1747-1656547200-1656633599@holyfamilysenior.com
SUMMARY:Last day of School 21/22
DESCRIPTION:The last day of school for the 21/22 school year will be June 30th 2022.
URL:https://holyfamilysenior.com/event/last-day-of-school-21-22/
END:VEVENT
BEGIN:VEVENT
DTSTART;TZID=Europe/Dublin:20220603T000000
DTEND;TZID=Europe/Dublin:20220606T235959
DTSTAMP:20260425T150240
CREATED:20211119T085348Z
LAST-MODIFIED:20211119T085354Z
UID:1745-1654214400-1654559999@holyfamilysenior.com
SUMMARY:June Bank Holiday
DESCRIPTION:School will be closed on Friday the 3rd and Monday the 6th of June.
URL:https://holyfamilysenior.com/event/june-bank-holiday/
END:VEVENT
BEGIN:VEVENT
DTSTART;TZID=Europe/Dublin:20220502T000000
DTEND;TZID=Europe/Dublin:20220502T235959
DTSTAMP:20260425T150240
CREATED:20211119T085224Z
LAST-MODIFIED:20211119T085229Z
UID:1743-1651449600-1651535999@holyfamilysenior.com
SUMMARY:May Bank Holiday
DESCRIPTION:School will be closed on Monday the 2nd of May.
URL:https://holyfamilysenior.com/event/may-bank-holiday/
END:VEVENT
BEGIN:VEVENT
DTSTART;TZID=Europe/Dublin:20220411T000000
DTEND;TZID=Europe/Dublin:20220422T235959
DTSTAMP:20260425T150240
CREATED:20211119T084622Z
LAST-MODIFIED:20211119T084626Z
UID:1741-1649635200-1650671999@holyfamilysenior.com
SUMMARY:Easter Break
DESCRIPTION:School will be closed for the dates mentioned. The final day of term will be Friday the 8th of April and we will reopen on Monday the 25th of April
URL:https://holyfamilysenior.com/event/easter-break/
END:VEVENT
BEGIN:VEVENT
DTSTART;TZID=Europe/Dublin:20220317T000000
DTEND;TZID=Europe/Dublin:20220321T235959
DTSTAMP:20260425T150240
CREATED:20211119T084422Z
LAST-MODIFIED:20220304T142942Z
UID:1739-1647475200-1647907199@holyfamilysenior.com
SUMMARY:St. Patrick's Day
DESCRIPTION:School will be close on Thursday March 16th @ 2:40pm and reopen at 9:00am on Tuesday March 22nd
URL:https://holyfamilysenior.com/event/st-patricks-day/
END:VEVENT
BEGIN:VEVENT
DTSTART;TZID=Europe/Dublin:20220221T000000
DTEND;TZID=Europe/Dublin:20220225T235959
DTSTAMP:20260425T150240
CREATED:20211119T083954Z
LAST-MODIFIED:20211119T083959Z
UID:1737-1645401600-1645833599@holyfamilysenior.com
SUMMARY:Mid-Term Break
DESCRIPTION:School will be closed on these dates. The final day in school before the mid term will be Friday the 18th of February and we will return on Monday the 28th.
URL:https://holyfamilysenior.com/event/mid-term-break/
END:VEVENT
BEGIN:VEVENT
DTSTART;TZID=Europe/Dublin:20211223T000000
DTEND;TZID=Europe/Dublin:20220105T235959
DTSTAMP:20260425T150240
CREATED:20211119T083408Z
LAST-MODIFIED:20211119T083413Z
UID:1735-1640217600-1641427199@holyfamilysenior.com
SUMMARY:Christmas Break
DESCRIPTION:School will be closed during those dates. Last day of term will be the 22nd of December and we will return on the 6th of January.
URL:https://holyfamilysenior.com/event/christmas-break/
END:VEVENT
BEGIN:VEVENT
DTSTART;TZID=Europe/Dublin:20210831T000000
DTEND;TZID=Europe/Dublin:20210831T235959
DTSTAMP:20260425T150240
CREATED:20210512T121220Z
LAST-MODIFIED:20210512T121227Z
UID:1564-1630368000-1630454399@holyfamilysenior.com
SUMMARY:1st Day of Term 1 21/22
DESCRIPTION:
URL:https://holyfamilysenior.com/event/1st-day-of-term-1-21-22/
END:VEVENT
END:VCALENDAR