BEGIN:VCALENDAR
VERSION:2.0
PRODID:-//Holy Family Senior School - ECPv6.15.20//NONSGML v1.0//EN
CALSCALE:GREGORIAN
METHOD:PUBLISH
X-WR-CALNAME:Holy Family Senior School
X-ORIGINAL-URL:https://holyfamilysenior.com
X-WR-CALDESC:Events for Holy Family Senior School
REFRESH-INTERVAL;VALUE=DURATION:PT1H
X-Robots-Tag:noindex
X-PUBLISHED-TTL:PT1H
BEGIN:VTIMEZONE
TZID:Europe/Dublin
BEGIN:DAYLIGHT
TZOFFSETFROM:+0000
TZOFFSETTO:+0100
TZNAME:IST
DTSTART:20220327T010000
END:DAYLIGHT
BEGIN:STANDARD
TZOFFSETFROM:+0100
TZOFFSETTO:+0000
TZNAME:GMT
DTSTART:20221030T010000
END:STANDARD
BEGIN:DAYLIGHT
TZOFFSETFROM:+0000
TZOFFSETTO:+0100
TZNAME:IST
DTSTART:20230326T010000
END:DAYLIGHT
BEGIN:STANDARD
TZOFFSETFROM:+0100
TZOFFSETTO:+0000
TZNAME:GMT
DTSTART:20231029T010000
END:STANDARD
BEGIN:DAYLIGHT
TZOFFSETFROM:+0000
TZOFFSETTO:+0100
TZNAME:IST
DTSTART:20240331T010000
END:DAYLIGHT
BEGIN:STANDARD
TZOFFSETFROM:+0100
TZOFFSETTO:+0000
TZNAME:GMT
DTSTART:20241027T010000
END:STANDARD
BEGIN:DAYLIGHT
TZOFFSETFROM:+0000
TZOFFSETTO:+0100
TZNAME:IST
DTSTART:20250330T010000
END:DAYLIGHT
BEGIN:STANDARD
TZOFFSETFROM:+0100
TZOFFSETTO:+0000
TZNAME:GMT
DTSTART:20251026T010000
END:STANDARD
BEGIN:DAYLIGHT
TZOFFSETFROM:+0000
TZOFFSETTO:+0100
TZNAME:IST
DTSTART:20260329T010000
END:DAYLIGHT
BEGIN:STANDARD
TZOFFSETFROM:+0100
TZOFFSETTO:+0000
TZNAME:GMT
DTSTART:20261025T010000
END:STANDARD
BEGIN:DAYLIGHT
TZOFFSETFROM:+0000
TZOFFSETTO:+0100
TZNAME:IST
DTSTART:20270328T010000
END:DAYLIGHT
BEGIN:STANDARD
TZOFFSETFROM:+0100
TZOFFSETTO:+0000
TZNAME:GMT
DTSTART:20271031T010000
END:STANDARD
END:VTIMEZONE
BEGIN:VEVENT
DTSTART;TZID=Europe/Dublin:20260630T000000
DTEND;TZID=Europe/Dublin:20260630T235959
DTSTAMP:20260425T131355
CREATED:20250908T123814Z
LAST-MODIFIED:20250908T123818Z
UID:2720-1782777600-1782863999@holyfamilysenior.com
SUMMARY:Final Day of 25/26 School Term
DESCRIPTION:
URL:https://holyfamilysenior.com/event/final-day-of-25-26-school-term/
END:VEVENT
BEGIN:VEVENT
DTSTART;TZID=Europe/Dublin:20260601T000000
DTEND;TZID=Europe/Dublin:20260602T235959
DTSTAMP:20260425T131355
CREATED:20250908T123655Z
LAST-MODIFIED:20250908T123659Z
UID:2718-1780272000-1780444799@holyfamilysenior.com
SUMMARY:June Bank Holiday
DESCRIPTION:Closed Monday and Tuesday for Midterm Break
URL:https://holyfamilysenior.com/event/june-bank-holiday-4/
END:VEVENT
BEGIN:VEVENT
DTSTART;TZID=Europe/Dublin:20260504T000000
DTEND;TZID=Europe/Dublin:20260508T235959
DTSTAMP:20260425T131355
CREATED:20250908T123536Z
LAST-MODIFIED:20250908T123540Z
UID:2716-1777852800-1778284799@holyfamilysenior.com
SUMMARY:May Midterm Break
DESCRIPTION:Closed for one week for the midterm break.
URL:https://holyfamilysenior.com/event/may-midterm-break/
END:VEVENT
BEGIN:VEVENT
DTSTART;TZID=Europe/Dublin:20260330T000000
DTEND;TZID=Europe/Dublin:20260410T235959
DTSTAMP:20260425T131355
CREATED:20250908T123425Z
LAST-MODIFIED:20250908T123429Z
UID:2714-1774828800-1775865599@holyfamilysenior.com
SUMMARY:Easter Break
DESCRIPTION:Closed for Easter Break
URL:https://holyfamilysenior.com/event/easter-break-5/
END:VEVENT
BEGIN:VEVENT
DTSTART;TZID=Europe/Dublin:20260316T000000
DTEND;TZID=Europe/Dublin:20260317T235959
DTSTAMP:20260425T131355
CREATED:20250908T123340Z
LAST-MODIFIED:20250908T123344Z
UID:2712-1773619200-1773791999@holyfamilysenior.com
SUMMARY:St. Patrick's Day
DESCRIPTION:Closed Monday and Tuesday for St. Patrick’s Day.
URL:https://holyfamilysenior.com/event/st-patricks-day-5/
END:VEVENT
BEGIN:VEVENT
DTSTART;TZID=Europe/Dublin:20260219T000000
DTEND;TZID=Europe/Dublin:20260220T235959
DTSTAMP:20260425T131355
CREATED:20250908T123250Z
LAST-MODIFIED:20250908T123254Z
UID:2710-1771459200-1771631999@holyfamilysenior.com
SUMMARY:February Midterm
DESCRIPTION:Closed Thursday and Friday for Midterm Break
URL:https://holyfamilysenior.com/event/february-midterm/
END:VEVENT
BEGIN:VEVENT
DTSTART;TZID=Europe/Dublin:20260202T000000
DTEND;TZID=Europe/Dublin:20260202T235959
DTSTAMP:20260425T131355
CREATED:20250908T101946Z
LAST-MODIFIED:20250908T101949Z
UID:2708-1769990400-1770076799@holyfamilysenior.com
SUMMARY:February Bank Holiday
DESCRIPTION:School will close for the Bank Holiday
URL:https://holyfamilysenior.com/event/february-bank-holiday/
END:VEVENT
BEGIN:VEVENT
DTSTART;TZID=Europe/Dublin:20251222T000000
DTEND;TZID=Europe/Dublin:20260102T235959
DTSTAMP:20260425T131355
CREATED:20250908T100548Z
LAST-MODIFIED:20250908T100551Z
UID:2706-1766361600-1767398399@holyfamilysenior.com
SUMMARY:Christmas Break
DESCRIPTION:School will be closed for Christmas Break
URL:https://holyfamilysenior.com/event/christmas-break-5/
END:VEVENT
BEGIN:VEVENT
DTSTART;TZID=Europe/Dublin:20251027T000000
DTEND;TZID=Europe/Dublin:20251031T235959
DTSTAMP:20260425T131355
CREATED:20250908T075653Z
LAST-MODIFIED:20250908T075657Z
UID:2704-1761523200-1761955199@holyfamilysenior.com
SUMMARY:Midterm Break
DESCRIPTION:School closed for Midterm Break
URL:https://holyfamilysenior.com/event/midterm-break/
END:VEVENT
BEGIN:VEVENT
DTSTART;TZID=Europe/Dublin:20250627T000000
DTEND;TZID=Europe/Dublin:20250627T235959
DTSTAMP:20260425T131355
CREATED:20240116T082050Z
LAST-MODIFIED:20240116T082056Z
UID:2398-1750982400-1751068799@holyfamilysenior.com
SUMMARY:Final Day of 24/25 School Term
DESCRIPTION:
URL:https://holyfamilysenior.com/event/final-day-of-24-25-school-term/
END:VEVENT
BEGIN:VEVENT
DTSTART;TZID=Europe/Dublin:20250530T000000
DTEND;TZID=Europe/Dublin:20250602T235959
DTSTAMP:20260425T131355
CREATED:20240116T081953Z
LAST-MODIFIED:20240116T081959Z
UID:2396-1748563200-1748908799@holyfamilysenior.com
SUMMARY:School Closed - Bank Holiday (Friday and Monday)
DESCRIPTION:
URL:https://holyfamilysenior.com/event/school-closed-bank-holiday-friday-and-monday/
END:VEVENT
BEGIN:VEVENT
DTSTART;TZID=Europe/Dublin:20250505T000000
DTEND;TZID=Europe/Dublin:20250505T235959
DTSTAMP:20260425T131355
CREATED:20240116T081826Z
LAST-MODIFIED:20240116T081832Z
UID:2394-1746403200-1746489599@holyfamilysenior.com
SUMMARY:School Closed - Bank Holiday
DESCRIPTION:
URL:https://holyfamilysenior.com/event/school-closed-bank-holiday-5/
END:VEVENT
BEGIN:VEVENT
DTSTART;TZID=Europe/Dublin:20250414T000000
DTEND;TZID=Europe/Dublin:20250425T235959
DTSTAMP:20260425T131355
CREATED:20240116T081744Z
LAST-MODIFIED:20240116T081748Z
UID:2392-1744588800-1745625599@holyfamilysenior.com
SUMMARY:School Closed - Easter Break
DESCRIPTION:
URL:https://holyfamilysenior.com/event/school-closed-easter-break-2/
END:VEVENT
BEGIN:VEVENT
DTSTART;TZID=Europe/Dublin:20250317T000000
DTEND;TZID=Europe/Dublin:20250317T235959
DTSTAMP:20260425T131355
CREATED:20240116T081651Z
LAST-MODIFIED:20240116T081658Z
UID:2390-1742169600-1742255999@holyfamilysenior.com
SUMMARY:School Closed - St. Patrick's Day
DESCRIPTION:
URL:https://holyfamilysenior.com/event/school-closed-st-patricks-day/
END:VEVENT
BEGIN:VEVENT
DTSTART;TZID=Europe/Dublin:20250217T000000
DTEND;TZID=Europe/Dublin:20250221T235959
DTSTAMP:20260425T131355
CREATED:20240116T081607Z
LAST-MODIFIED:20240116T081613Z
UID:2388-1739750400-1740182399@holyfamilysenior.com
SUMMARY:School Closed - Mid-term Break
DESCRIPTION:
URL:https://holyfamilysenior.com/event/school-closed-mid-term-break-2/
END:VEVENT
BEGIN:VEVENT
DTSTART;TZID=Europe/Dublin:20250203T000000
DTEND;TZID=Europe/Dublin:20250203T235959
DTSTAMP:20260425T131355
CREATED:20240116T081518Z
LAST-MODIFIED:20240116T081523Z
UID:2386-1738540800-1738627199@holyfamilysenior.com
SUMMARY:School Closed - Bank Holiday
DESCRIPTION:
URL:https://holyfamilysenior.com/event/school-closed-bank-holiday-4/
END:VEVENT
BEGIN:VEVENT
DTSTART;TZID=Europe/Dublin:20241223T000000
DTEND;TZID=Europe/Dublin:20250103T235959
DTSTAMP:20260425T131355
CREATED:20240116T081334Z
LAST-MODIFIED:20240116T081340Z
UID:2384-1734912000-1735948799@holyfamilysenior.com
SUMMARY:School Closed - Christmas Break
DESCRIPTION:
URL:https://holyfamilysenior.com/event/school-closed-christmas-break/
END:VEVENT
BEGIN:VEVENT
DTSTART;TZID=Europe/Dublin:20241028T000000
DTEND;TZID=Europe/Dublin:20241101T235959
DTSTAMP:20260425T131355
CREATED:20240116T081221Z
LAST-MODIFIED:20240116T081225Z
UID:2382-1730073600-1730505599@holyfamilysenior.com
SUMMARY:School Closed - October Mid-term Break
DESCRIPTION:
URL:https://holyfamilysenior.com/event/school-closed-october-mid-term-break/
END:VEVENT
BEGIN:VEVENT
DTSTART;TZID=Europe/Dublin:20240829T000000
DTEND;TZID=Europe/Dublin:20240829T235959
DTSTAMP:20260425T131355
CREATED:20240116T081129Z
LAST-MODIFIED:20240116T081133Z
UID:2380-1724889600-1724975999@holyfamilysenior.com
SUMMARY:First Day of 24/25 School Term
DESCRIPTION:
URL:https://holyfamilysenior.com/event/first-day-of-24-25-school-term/
END:VEVENT
BEGIN:VEVENT
DTSTART;TZID=Europe/Dublin:20240628T000000
DTEND;TZID=Europe/Dublin:20240628T235959
DTSTAMP:20260425T131355
CREATED:20240116T081014Z
LAST-MODIFIED:20240116T081019Z
UID:2378-1719532800-1719619199@holyfamilysenior.com
SUMMARY:Final Day of 23/24 School Term
DESCRIPTION:
URL:https://holyfamilysenior.com/event/final-day-of-23-24-school-term/
END:VEVENT
BEGIN:VEVENT
DTSTART;TZID=Europe/Dublin:20240607T000000
DTEND;TZID=Europe/Dublin:20240607T235959
DTSTAMP:20260425T131355
CREATED:20240116T080816Z
LAST-MODIFIED:20240116T080821Z
UID:2376-1717718400-1717804799@holyfamilysenior.com
SUMMARY:School Closed - School will be used as a Polling Station
DESCRIPTION:
URL:https://holyfamilysenior.com/event/school-closed-school-will-be-used-as-a-polling-station/
END:VEVENT
BEGIN:VEVENT
DTSTART;TZID=Europe/Dublin:20240603T000000
DTEND;TZID=Europe/Dublin:20240603T235959
DTSTAMP:20260425T131355
CREATED:20240116T080723Z
LAST-MODIFIED:20240116T080728Z
UID:2374-1717372800-1717459199@holyfamilysenior.com
SUMMARY:School Closed - Bank Holiday
DESCRIPTION:
URL:https://holyfamilysenior.com/event/school-closed-bank-holiday-3/
END:VEVENT
BEGIN:VEVENT
DTSTART;TZID=Europe/Dublin:20240506T000000
DTEND;TZID=Europe/Dublin:20240510T235959
DTSTAMP:20260425T131355
CREATED:20240116T080635Z
LAST-MODIFIED:20240116T080640Z
UID:2372-1714953600-1715385599@holyfamilysenior.com
SUMMARY:School Closed - Mid-term Break
DESCRIPTION:
URL:https://holyfamilysenior.com/event/school-closed-mid-term-break/
END:VEVENT
BEGIN:VEVENT
DTSTART;TZID=Europe/Dublin:20240325T000000
DTEND;TZID=Europe/Dublin:20240405T235959
DTSTAMP:20260425T131355
CREATED:20240116T080542Z
LAST-MODIFIED:20240116T080547Z
UID:2370-1711324800-1712361599@holyfamilysenior.com
SUMMARY:School Closed - Easter Break
DESCRIPTION:
URL:https://holyfamilysenior.com/event/school-closed-easter-break/
END:VEVENT
BEGIN:VEVENT
DTSTART;TZID=Europe/Dublin:20240318T000000
DTEND;TZID=Europe/Dublin:20240318T235959
DTSTAMP:20260425T131355
CREATED:20240116T080441Z
LAST-MODIFIED:20240116T080445Z
UID:2368-1710720000-1710806399@holyfamilysenior.com
SUMMARY:School Closed - Bank Holiday
DESCRIPTION:
URL:https://holyfamilysenior.com/event/school-closed-bank-holiday-2/
END:VEVENT
BEGIN:VEVENT
DTSTART;TZID=Europe/Dublin:20240308T000000
DTEND;TZID=Europe/Dublin:20240308T235959
DTSTAMP:20260425T131355
CREATED:20240116T080353Z
LAST-MODIFIED:20240116T080358Z
UID:2366-1709856000-1709942399@holyfamilysenior.com
SUMMARY:School Closed - School is being used as a Polling Station
DESCRIPTION:
URL:https://holyfamilysenior.com/event/school-closed-school-is-being-used-as-a-polling-station/
END:VEVENT
BEGIN:VEVENT
DTSTART;TZID=Europe/Dublin:20240215T000000
DTEND;TZID=Europe/Dublin:20240216T235959
DTSTAMP:20260425T131355
CREATED:20240116T080056Z
LAST-MODIFIED:20240116T080202Z
UID:2363-1707955200-1708127999@holyfamilysenior.com
SUMMARY:School Closed - Mid-term Break
DESCRIPTION:
URL:https://holyfamilysenior.com/event/school-closed-midterm-break/
END:VEVENT
BEGIN:VEVENT
DTSTART;TZID=Europe/Dublin:20240205T000000
DTEND;TZID=Europe/Dublin:20240205T235959
DTSTAMP:20260425T131355
CREATED:20240116T075937Z
LAST-MODIFIED:20240116T075942Z
UID:2361-1707091200-1707177599@holyfamilysenior.com
SUMMARY:School Closed - Bank Holiday
DESCRIPTION:
URL:https://holyfamilysenior.com/event/school-closed-bank-holiday/
END:VEVENT
BEGIN:VEVENT
DTSTART;TZID=Europe/Dublin:20230630T000000
DTEND;TZID=Europe/Dublin:20230630T235959
DTSTAMP:20260425T131355
CREATED:20220425T124232Z
LAST-MODIFIED:20220425T124234Z
UID:1934-1688083200-1688169599@holyfamilysenior.com
SUMMARY:Last Day of the 22/23 School Year
DESCRIPTION:
URL:https://holyfamilysenior.com/event/last-day-of-the-22-23-school-year/
END:VEVENT
BEGIN:VEVENT
DTSTART;TZID=Europe/Dublin:20230602T000000
DTEND;TZID=Europe/Dublin:20230605T235959
DTSTAMP:20260425T131355
CREATED:20220425T124134Z
LAST-MODIFIED:20220425T124138Z
UID:1932-1685664000-1686009599@holyfamilysenior.com
SUMMARY:June Bank Holiday Weekend
DESCRIPTION:
URL:https://holyfamilysenior.com/event/june-bank-holiday-weekend/
END:VEVENT
END:VCALENDAR